BEGIN:VCALENDAR
VERSION:2.0
PRODID:-//Coro C.A.I. Roma - ECPv4.6.23//NONSGML v1.0//EN
CALSCALE:GREGORIAN
METHOD:PUBLISH
X-WR-CALNAME:Coro C.A.I. Roma
X-ORIGINAL-URL:http://www.corocairoma.it
X-WR-CALDESC:Events for Coro C.A.I. Roma
BEGIN:VEVENT
DTSTART;TZID=Europe/Rome:20260321T210000
DTEND;TZID=Europe/Rome:20260322T233000
DTSTAMP:20260425T154727
CREATED:20260410T063958Z
LAST-MODIFIED:20260410T063958Z
UID:14061-1774126800-1774222200@www.corocairoma.it
SUMMARY:“SOFFIO DI PRIMAVERA” – Armonie della tradizione popolare
DESCRIPTION:Sondrio\, 21 e 22 marzo 2026 \n“SOFFIO DI PRIMAVERA” – Armonie della tradizione popolare \n\nSegnaliamo un nuovo appuntamento con il nostro Coro che\, a Sondrio\, incontrerà il Coro CAI Femminile Valtellinese. I due cori\, misto il coro di Roma\, femminile quello di Sondrio\, proporranno al pubblico un concerto di canti popolari degli autori che maggiormente hanno contribuito e contribuiscono ad arricchire\, con le loro opere\, i repertori delle corali italiane.\nL’iniziativa si inserisce in un contesto più ampio di scambio tra cori\, al fine di allargare la conoscenza reciproca su composizione\, storia\, repertori\, programmi\, stili di direzione e di canto. \nIl Coro CAI Roma è infatti da sempre impegnato nella ricerca di percorsi utili a diffondere la musica popolare tradizionale e storica. In proposito si ricorda che\, tra il 2024 e il 2025\, ha ideato e realizzato “Sentieri antichi”\, il progetto dedicato al fenomeno della “Transumanza” \, con canti scoperti e arrangiati per coro misto\, l’accompagnamento delle zampogne\, approfondimenti culturali\, interventi di esperti e testimoni\, degustazioni\, a Roma e nei luoghi più significativi del tratturo Jenne – Artena – Anzio\, nella provincia di Roma.  \nIl nuovo concerto si svolgerà sabato 21 marzo presso la sala Consiliare della Provincia di Sondrio\, alle ore 21.00.\nIl progetto è stato presentato al CAI – Centro Nazionale Coralità (CNC)\, che partecipa da anni ai bandi del Ministero della Cultura volti a individuare soggetti e progetti da sostenere nel settore dei festival e dei cori. \nSCARICA LA LOCANDINA IN PDF \n
URL:http://www.corocairoma.it/event/soffio-di-primavera-armonie-della-tradizione-popolare/
ATTACH;FMTTYPE=image/jpeg:http://www.corocairoma.it/wp-content/uploads/2026/03/CONCERTO-DI-PRIMAVERA.jpg
END:VEVENT
END:VCALENDAR